BEGIN:VCALENDAR
VERSION:2.0
PRODID:-//Mytech Partners - ECPv6.15.20//NONSGML v1.0//EN
CALSCALE:GREGORIAN
METHOD:PUBLISH
X-WR-CALNAME:Mytech Partners
X-ORIGINAL-URL:https://mytech.com
X-WR-CALDESC:Events for Mytech Partners
REFRESH-INTERVAL;VALUE=DURATION:PT1H
X-Robots-Tag:noindex
X-PUBLISHED-TTL:PT1H
BEGIN:VTIMEZONE
TZID:America/Chicago
BEGIN:DAYLIGHT
TZOFFSETFROM:-0600
TZOFFSETTO:-0500
TZNAME:CDT
DTSTART:20220313T080000
END:DAYLIGHT
BEGIN:STANDARD
TZOFFSETFROM:-0500
TZOFFSETTO:-0600
TZNAME:CST
DTSTART:20221106T070000
END:STANDARD
BEGIN:DAYLIGHT
TZOFFSETFROM:-0600
TZOFFSETTO:-0500
TZNAME:CDT
DTSTART:20230312T080000
END:DAYLIGHT
BEGIN:STANDARD
TZOFFSETFROM:-0500
TZOFFSETTO:-0600
TZNAME:CST
DTSTART:20231105T070000
END:STANDARD
BEGIN:DAYLIGHT
TZOFFSETFROM:-0600
TZOFFSETTO:-0500
TZNAME:CDT
DTSTART:20240310T080000
END:DAYLIGHT
BEGIN:STANDARD
TZOFFSETFROM:-0500
TZOFFSETTO:-0600
TZNAME:CST
DTSTART:20241103T070000
END:STANDARD
END:VTIMEZONE
BEGIN:VEVENT
DTSTART;TZID=America/Chicago:20230913T120000
DTEND;TZID=America/Chicago:20230913T124500
DTSTAMP:20260421T052736
CREATED:20230803T145630Z
LAST-MODIFIED:20230913T172154Z
UID:10705-1694606400-1694609100@mytech.com
SUMMARY:Microsoft 365 User Group | Train-the-Trainer Part 1
DESCRIPTION:12:00 pm CT  |  11:00 am MT \n\n\nDon’t miss out on this opportunity to ask questions\, get expert consulting\, and solve your business challenges! Join us for our first of many Microsoft 365 User Groups. During these monthly YouTube Live sessions\, we’ll aim to empower you with knowledge and tools within the 365 suite\, but more importantly\, create a space to collaborate with others who use Microsoft 365\, as we all lead the way to digital transformation in our organizations. \nThis month’s session: Part 1️ of an 8-part series: Microsoft 365 and Teams | Train-the-Trainer \nIn this session\, we will dive into the power of Microsoft Teams\, going beyond its basic messaging functions. Discover the difference between chat and teams and explore the various types of channels available. Unsure which configuration is the right fit for your team? Worry not! We’ll guide you through the different types and help you understand when and why to use each one. \nLet’s drive adoption together and revolutionize the way we work! \n\nHead over to our YouTube Channel and click “NOTIFY ME” to get an alert when we start the livestream!
URL:https://mytech.com/event/microsoft-365-user-group-part-1/
LOCATION:Mytech Virtual Session\, United States
CATEGORIES:Virtual Session
ATTACH;FMTTYPE=image/png:https://mytech.com/wp-content/uploads/2023/08/M365-User-Group-YT-Thumbnail.png
END:VEVENT
END:VCALENDAR