BEGIN:VCALENDAR
VERSION:2.0
PRODID:-//Mytech Partners - ECPv6.15.20//NONSGML v1.0//EN
CALSCALE:GREGORIAN
METHOD:PUBLISH
X-WR-CALNAME:Mytech Partners
X-ORIGINAL-URL:https://mytech.com
X-WR-CALDESC:Events for Mytech Partners
REFRESH-INTERVAL;VALUE=DURATION:PT1H
X-Robots-Tag:noindex
X-PUBLISHED-TTL:PT1H
BEGIN:VTIMEZONE
TZID:America/Chicago
BEGIN:DAYLIGHT
TZOFFSETFROM:-0600
TZOFFSETTO:-0500
TZNAME:CDT
DTSTART:20210314T080000
END:DAYLIGHT
BEGIN:STANDARD
TZOFFSETFROM:-0500
TZOFFSETTO:-0600
TZNAME:CST
DTSTART:20211107T070000
END:STANDARD
BEGIN:DAYLIGHT
TZOFFSETFROM:-0600
TZOFFSETTO:-0500
TZNAME:CDT
DTSTART:20220313T080000
END:DAYLIGHT
BEGIN:STANDARD
TZOFFSETFROM:-0500
TZOFFSETTO:-0600
TZNAME:CST
DTSTART:20221106T070000
END:STANDARD
BEGIN:DAYLIGHT
TZOFFSETFROM:-0600
TZOFFSETTO:-0500
TZNAME:CDT
DTSTART:20230312T080000
END:DAYLIGHT
BEGIN:STANDARD
TZOFFSETFROM:-0500
TZOFFSETTO:-0600
TZNAME:CST
DTSTART:20231105T070000
END:STANDARD
END:VTIMEZONE
BEGIN:VEVENT
DTSTART;TZID=America/Chicago:20221005T080000
DTEND;TZID=America/Chicago:20221005T093000
DTSTAMP:20260421T150930
CREATED:20210607T060013Z
LAST-MODIFIED:20230523T200907Z
UID:10367-1664956800-1664962200@mytech.com
SUMMARY:Build your incident response plan | A guide for a cybersecurity crisis | Minnesota workshop
DESCRIPTION:  \n\n\n\nIN PERSON EVENT\n8:00 am – 9:30 am CT \nA cybersecurity crisis can easily become the worst day your organization ever faces. Many businesses never truly recover\, losing customers and industry standing from the damage to their reputations…or even shutting their doors permanently. And it’s not some vague possibility\, either: 37% of organizations were hit by ransomware in 2021. \nRobust cybersecurity and data protection is a critical defense\, but there is always a risk of compromise; if the worst does come to pass\, a few key decisions can be the difference between your organization staying afloat or closing. Like any other emergency procedure\, an incident response plan (IRP) can keep you moving in the midst of a crisis. \nIn this 90-minute in-person workshop\, Mytech’s Information Security Assessor will walk you through the building blocks of an IRP\, how it should relate to your broader data security posture\, and how you can make the most of your cybersecurity and cyber insurance relationships. Attendees of this workshop will come away with the beginnings of an Incident Response Plan\, and a list of resources that identify the key next steps to finalizing it. \n\nDraft the framework for your organization’s IRP\nIdentify the crucial next steps you’ll need to take\nEstablish your plan for involving expert resources\nLearn how your IRP will fit inside your broader information security program\n\nPreparation is essential to cybersecurity\, and IRPs are no different. Establish your plan ahead of time\, so you aren’t forced to improvise. Join us for this workshop and empower yourself to act decisively if your organization’s worst day ever comes to pass.   \n  \nIncident Response Plan Workbook \nIncident Response Workshop – Data Inventory \n  \n[rtec-registration-form]\n\n\n\n\n\n\n\n\n\n 
URL:https://mytech.com/event/build-your-incident-response-plan-a-guide-for-a-cybersecurity-crisis-minnesota-workshop/
LOCATION:Mytech Partners – MN\, 300 2nd St. NW\, New Brighton\, MN\, 55112\, United States
CATEGORIES:In-Person Event,Security
ATTACH;FMTTYPE=image/png:https://mytech.com/wp-content/uploads/2021/06/IRP-workshops.png
END:VEVENT
END:VCALENDAR